BEGIN:VCALENDAR
VERSION:2.0
PRODID:-//Philadelphia Energy Authority - ECPv5.1.5//NONSGML v1.0//EN
CALSCALE:GREGORIAN
METHOD:PUBLISH
X-WR-CALNAME:Philadelphia Energy Authority
X-ORIGINAL-URL:https://philaenergy.org
X-WR-CALDESC:Events for Philadelphia Energy Authority
BEGIN:VTIMEZONE
TZID:America/New_York
BEGIN:DAYLIGHT
TZOFFSETFROM:-0500
TZOFFSETTO:-0400
TZNAME:EDT
DTSTART:20250309T070000
END:DAYLIGHT
BEGIN:STANDARD
TZOFFSETFROM:-0400
TZOFFSETTO:-0500
TZNAME:EST
DTSTART:20251102T060000
END:STANDARD
END:VTIMEZONE
BEGIN:VEVENT
DTSTART;TZID=America/New_York:20250409T120000
DTEND;TZID=America/New_York:20250409T140000
DTSTAMP:20260421T220108
CREATED:20250324T154720Z
LAST-MODIFIED:20250324T154720Z
UID:10614-1744200000-1744207200@philaenergy.org
SUMMARY:Clean Energy Grant Lunch & Learn
DESCRIPTION:Join us for an exciting opportunity to network\, learn and discover the latest opportunities in clean energy employer support! \nAttendees will learn about the Clean Energy Grant and the services it can offer to clean energy employers looking to grow their business through workforce development strategies. Some examples include upskilling\, on-the-job training\, incumbent worker training\, and hiring support. \nPLEASE RSVP BY 4/4/2025 \n🌱 Learn how the Clean Energy Grant can support your employee retention\, on-the-job training and diverse recruitment goals\n📚 Explore how PhilaWorks and other organizations can support your employee upskilling\, on-the-job training and diverse recruitment goals\n🤝 Connect with local professionals and innovators in the industry \nDate & Time: April 9\, 2025; 12-2pm\nLocation: Penn State Brandywine Main Building\, Room 113 \n25 Yearsley Mill Rd\, Media\, PA 19063 \nLunch is provided! \nParking on Campus\nAmple parking available on campus.\nDon’t miss out on this opportunity to tap into funds that could grow and enhance your employment and operational goals! We look forward to seeing you there. RSVP Today \nGood Jobs Challenge \nIn partnership with PhilaWorks\, Philadelphia Energy Authority subrecipient on Southeastern PA’s (SE PA) successful Good Jobs Challenge to create the Coordinated Southeastern PA Workforce Development System. A program of the U.S. Economic Development Administration\, GJC infused $22.8M to support workforce development within the healthcare\, construction\, and energy sectors. PEA serves as the energy sector lead. \n
URL:https://philaenergy.org/event/clean-energy-grant-lunch-learn/
LOCATION:Penn State Branywine\, 25 Yearsley Mill Rd\, Media\, 19063\, United States
ORGANIZER;CN="Philadelphia%20Energy%20Authority":MAILTO:info@philaenergy.org
END:VEVENT
END:VCALENDAR