BEGIN:VCALENDAR
VERSION:2.0
PRODID:-//Philadelphia Energy Authority - ECPv5.1.5//NONSGML v1.0//EN
CALSCALE:GREGORIAN
METHOD:PUBLISH
X-WR-CALNAME:Philadelphia Energy Authority
X-ORIGINAL-URL:https://philaenergy.org
X-WR-CALDESC:Events for Philadelphia Energy Authority
BEGIN:VTIMEZONE
TZID:America/New_York
BEGIN:DAYLIGHT
TZOFFSETFROM:-0500
TZOFFSETTO:-0400
TZNAME:EDT
DTSTART:20210314T070000
END:DAYLIGHT
BEGIN:STANDARD
TZOFFSETFROM:-0400
TZOFFSETTO:-0500
TZNAME:EST
DTSTART:20211107T060000
END:STANDARD
END:VTIMEZONE
BEGIN:VEVENT
DTSTART;TZID=America/New_York:20210316T130000
DTEND;TZID=America/New_York:20210316T140000
DTSTAMP:20260421T154402
CREATED:20210309T195319Z
LAST-MODIFIED:20210309T195727Z
UID:6831-1615899600-1615903200@philaenergy.org
SUMMARY:Conversation with the Councilmember: Citywide Resource Fair
DESCRIPTION:Join Councilmember At-Large Katherine Gilmore Richards virtually March 16th to hear about the latest programs and services to help you pay utility bills\, property taxes\, and create a will. \nPEA along with American Water Resources will be available to answer any questions about the Water & Sewer Line Protection Program. \n
URL:https://philaenergy.org/event/conversation-with-the-councilmember-citywide-resource-fair/
ATTACH;FMTTYPE=image/jpeg:https://philaenergy.org/wp-content/uploads/2021/03/CitywideResourceFair_Flyer_4-scaled.jpg
END:VEVENT
END:VCALENDAR