BEGIN:VCALENDAR
VERSION:2.0
PRODID:-//Philadelphia Energy Authority - ECPv5.1.5//NONSGML v1.0//EN
CALSCALE:GREGORIAN
METHOD:PUBLISH
X-WR-CALNAME:Philadelphia Energy Authority
X-ORIGINAL-URL:https://philaenergy.org
X-WR-CALDESC:Events for Philadelphia Energy Authority
BEGIN:VTIMEZONE
TZID:America/New_York
BEGIN:DAYLIGHT
TZOFFSETFROM:-0500
TZOFFSETTO:-0400
TZNAME:EDT
DTSTART:20250309T070000
END:DAYLIGHT
BEGIN:STANDARD
TZOFFSETFROM:-0400
TZOFFSETTO:-0500
TZNAME:EST
DTSTART:20251102T060000
END:STANDARD
END:VTIMEZONE
BEGIN:VEVENT
DTSTART;TZID=America/New_York:20250823T120000
DTEND;TZID=America/New_York:20250823T200000
DTSTAMP:20260423T194912
CREATED:20250731T145516Z
LAST-MODIFIED:20250801T145428Z
UID:11150-1755950400-1755979200@philaenergy.org
SUMMARY:Council President Kenyatta Johnson Community Appreciation Day
DESCRIPTION:Council President Kenyatta Johnson’s Annual Community Appreciation Day 2025 promises an amazing day of free food\, fun\, vendors\, and thrilling live entertainment for all ages! \nJoin Philadelphia Energy Authority\, Philadelphia Green Capital Corp\, and a special guest! Staff will be on site to assist signing up with Solarize Greater Philadelphia. \n \n  \n
URL:https://philaenergy.org/event/council-president-kenyatta-johnson-community-appreciation-day/
LOCATION:Tasker St & Point Breeze Ave\, 1540 Point Breeze Ave\, Philadelphia\, PA\, 19146\, United States
CATEGORIES:Solar Week
END:VEVENT
END:VCALENDAR