BEGIN:VCALENDAR
VERSION:2.0
PRODID:-//Philadelphia Energy Authority - ECPv5.1.5//NONSGML v1.0//EN
CALSCALE:GREGORIAN
METHOD:PUBLISH
X-WR-CALNAME:Philadelphia Energy Authority
X-ORIGINAL-URL:https://philaenergy.org
X-WR-CALDESC:Events for Philadelphia Energy Authority
BEGIN:VTIMEZONE
TZID:America/New_York
BEGIN:DAYLIGHT
TZOFFSETFROM:-0500
TZOFFSETTO:-0400
TZNAME:EDT
DTSTART:20210314T070000
END:DAYLIGHT
BEGIN:STANDARD
TZOFFSETFROM:-0400
TZOFFSETTO:-0500
TZNAME:EST
DTSTART:20211107T060000
END:STANDARD
END:VTIMEZONE
BEGIN:VEVENT
DTSTART;TZID=America/New_York:20210405T113000
DTEND;TZID=America/New_York:20210405T123000
DTSTAMP:20260421T140821
CREATED:20210309T200437Z
LAST-MODIFIED:20210309T200437Z
UID:6838-1617622200-1617625800@philaenergy.org
SUMMARY:CREW/CCIM/SIOR C-PACE Introduction
DESCRIPTION:C-PACE can be a financing tool for your clients to get more projects over the finish line. C-PACE provides financing for energy efficiency\, renewable energy and water conservation in new construction\, gut rehab and renovation projects in PA and DE. The program will include a presentation and Q&A with Lisa Shulock\, Philadelphia Energy Authority\, followed by attendee networking. \n
URL:https://philaenergy.org/event/crew-ccim-sior-c-pace-introduction/
ATTACH;FMTTYPE=image/png:https://philaenergy.org/wp-content/uploads/2021/03/C-PACE_social_16x9-004-768x403-1.png
END:VEVENT
END:VCALENDAR