BEGIN:VCALENDAR
VERSION:2.0
PRODID:-//Philadelphia Energy Authority - ECPv5.1.5//NONSGML v1.0//EN
CALSCALE:GREGORIAN
METHOD:PUBLISH
X-WR-CALNAME:Philadelphia Energy Authority
X-ORIGINAL-URL:https://philaenergy.org
X-WR-CALDESC:Events for Philadelphia Energy Authority
BEGIN:VTIMEZONE
TZID:America/New_York
BEGIN:DAYLIGHT
TZOFFSETFROM:-0500
TZOFFSETTO:-0400
TZNAME:EDT
DTSTART:20210314T070000
END:DAYLIGHT
BEGIN:STANDARD
TZOFFSETFROM:-0400
TZOFFSETTO:-0500
TZNAME:EST
DTSTART:20211107T060000
END:STANDARD
END:VTIMEZONE
BEGIN:VEVENT
DTSTART;TZID=America/New_York:20210401T150000
DTEND;TZID=America/New_York:20210401T160000
DTSTAMP:20260421T123548
CREATED:20210325T185742Z
LAST-MODIFIED:20210325T185844Z
UID:6933-1617289200-1617292800@philaenergy.org
SUMMARY:LED Streetlighting RFP Pre-bid Meeting
DESCRIPTION:PEA and the City of Philadelphia released an Request for Proposals (RFP) on March 22nd for LED Streetlighting\, Controls and Networking. The purpose of the meeting is for PEA and the City of Philadelphia to provide an overview of the RFP\, including timeline\, materials included\, and submittal requirements. This meeting is open to the public. \n
URL:https://philaenergy.org/event/led-streetlighting-rfp-pre-bid-meeting/
ORGANIZER;CN="Philadelphia%20Energy%20Authority":MAILTO:info@philaenergy.org
END:VEVENT
END:VCALENDAR