BEGIN:VCALENDAR
VERSION:2.0
PRODID:-//Philadelphia Energy Authority - ECPv5.1.5//NONSGML v1.0//EN
CALSCALE:GREGORIAN
METHOD:PUBLISH
X-WR-CALNAME:Philadelphia Energy Authority
X-ORIGINAL-URL:https://philaenergy.org
X-WR-CALDESC:Events for Philadelphia Energy Authority
BEGIN:VTIMEZONE
TZID:America/New_York
BEGIN:DAYLIGHT
TZOFFSETFROM:-0500
TZOFFSETTO:-0400
TZNAME:EDT
DTSTART:20210314T070000
END:DAYLIGHT
BEGIN:STANDARD
TZOFFSETFROM:-0400
TZOFFSETTO:-0500
TZNAME:EST
DTSTART:20211107T060000
END:STANDARD
END:VTIMEZONE
BEGIN:VEVENT
DTSTART;TZID=America/New_York:20210415T090000
DTEND;TZID=America/New_York:20210415T100000
DTSTAMP:20260421T091857
CREATED:20210408T193101Z
LAST-MODIFIED:20210413T135640Z
UID:6978-1618477200-1618480800@philaenergy.org
SUMMARY:LED Streetlighting RFP - Subcontractor and Vendor Info Session
DESCRIPTION:Please join us to learn about opportunities for subcontractors and materials vendors to participate in the LED Streetlighting\, Network\, and Controls project. \nPEA and the City of Philadelphia are currently seeking proposals from pre-qualified Energy Service Companies (ESCOs) through the open Request for Proposals. The proposals are due on May 14\, 2021.\nPEA and the City of Philadelphia – Request for Proposals (RFP) for LED Streetlighting\, Controls and Networking \nIn this webinar\, we will:\n– Provide an overview of the project\n– Describe subcontracting and vendor opportunities\n– Explain the City’s requirements for participation of minority- and woman-owned business enterprises\n– Share information on how to engage with the pre-qualified ESCOs. \n  \nPre-registration for this webinar is required. Use the link below to register. \n
URL:https://philaenergy.org/event/led-streetlighting-rfp-vendor-info-session/
ORGANIZER;CN="Philadelphia%20Energy%20Authority":MAILTO:info@philaenergy.org
END:VEVENT
END:VCALENDAR