BEGIN:VCALENDAR
VERSION:2.0
PRODID:-//Philadelphia Energy Authority - ECPv5.1.5//NONSGML v1.0//EN
CALSCALE:GREGORIAN
METHOD:PUBLISH
X-WR-CALNAME:Philadelphia Energy Authority
X-ORIGINAL-URL:https://philaenergy.org
X-WR-CALDESC:Events for Philadelphia Energy Authority
BEGIN:VTIMEZONE
TZID:America/New_York
BEGIN:DAYLIGHT
TZOFFSETFROM:-0500
TZOFFSETTO:-0400
TZNAME:EDT
DTSTART:20210314T070000
END:DAYLIGHT
BEGIN:STANDARD
TZOFFSETFROM:-0400
TZOFFSETTO:-0500
TZNAME:EST
DTSTART:20211107T060000
END:STANDARD
END:VTIMEZONE
BEGIN:VEVENT
DTSTART;TZID=America/New_York:20210922T130000
DTEND;TZID=America/New_York:20210922T140000
DTSTAMP:20260424T031735
CREATED:20210920T211130Z
LAST-MODIFIED:20210920T213543Z
UID:7569-1632315600-1632319200@philaenergy.org
SUMMARY:Solar Savings Grant Program Press Event
DESCRIPTION:Join PEA on Wednesday\, September 22\, for the Solar Savings Grant Program Press Event. PEA is holding this event to share the exciting news about completing their pilot installing solar on 50 low- and medium-income homes from 26 zip codes! The Solar Savings Grant Program (SSGP) is the first program of its kind in the state. We will be joined by Councilmember Katherine Gilmore-Richardson and program partners at the home of one of the participants who is now benefiting from solar. \n
URL:https://philaenergy.org/event/solar-savings-grant-program-press-event/
LOCATION:Anchor St and Penn St\, Philadelphia\, PA\, 19124\, United States
CATEGORIES:Solarize
ATTACH;FMTTYPE=image/png:https://philaenergy.org/wp-content/uploads/2021/09/Screen-Shot-2021-03-04-at-3.34.54-PM.png
ORGANIZER;CN="Philadelphia%20Energy%20Authority":MAILTO:info@philaenergy.org
END:VEVENT
END:VCALENDAR