BEGIN:VCALENDAR
VERSION:2.0
PRODID:-//Philadelphia Energy Authority - ECPv5.1.5//NONSGML v1.0//EN
CALSCALE:GREGORIAN
METHOD:PUBLISH
X-WR-CALNAME:Philadelphia Energy Authority
X-ORIGINAL-URL:https://philaenergy.org
X-WR-CALDESC:Events for Philadelphia Energy Authority
BEGIN:VTIMEZONE

END:VTIMEZONE
BEGIN:VEVENT
DTSTART;TZID=America/New_York:19700101T000000
DTEND;TZID=America/New_York:20221027T000000
DTSTAMP:20260424T162909
CREATED:20221110T163038Z
LAST-MODIFIED:20221110T163038Z
UID:8680-0-1666828800@philaenergy.org
SUMMARY:Philly Streetlight Improvement Project Presentation
DESCRIPTION:The Philly Streetlight Improvement Project team will provide details on the initiative\, answer questions\, and share information on trial installations. For more information on the project visit: https://www.phillystreetlightimprovement.com/ \n
URL:https://philaenergy.org/event/philly-streetlight-improvement-project-presentation-5/
LOCATION:12th & Cambria Recreation Center 2901 N 12th St
ATTACH;FMTTYPE=image/png:https://philaenergy.org/wp-content/uploads/2022/11/Screen-Shot-2022-11-09-at-3.32.30-PM-1-2.png
END:VEVENT
BEGIN:VEVENT
DTSTART;TZID=America/New_York:20191003T103000
DTEND;TZID=America/New_York:20191003T110000
DTSTAMP:20260424T162909
CREATED:20191002T142947Z
LAST-MODIFIED:20201015T175542Z
UID:4743-1570098600-1570100400@philaenergy.org
SUMMARY:PEA Board Special Session
DESCRIPTION:The Philadelphia Energy Authority will hold a Special Session\, on Thursday\, October 3\, 2019 at 10:30 A.M.\, at Philadelphia City Hall\, 1400 John F. Kennedy Blvd.\, Room 566\, Philadelphia\, PA 19107. There is one agenda item\, which is a resolution to approve the signing of agreements to launch Philadelphia Commercial Property-Assessed Clean Energy financing (“C-PACE”). The public is invited to attend. \nSpecial Session Minutes – October 3\, 2019 \n
URL:https://philaenergy.org/event/pea-board-special-session/
LOCATION:Philadelphia City Hall\, 1400 John F. Kennedy Blvd\, Philadelphia\, PA\, 19107\, United States
END:VEVENT
BEGIN:VEVENT
DTSTART;TZID=America/New_York:20191003T110000
DTEND;TZID=America/New_York:20191003T140000
DTSTAMP:20260424T162909
CREATED:20191002T134143Z
LAST-MODIFIED:20191002T134143Z
UID:4733-1570100400-1570111200@philaenergy.org
SUMMARY:Solarize Philly at the Navy Yard Sustainability Day 2019
DESCRIPTION:Celebrate sustainability with PIDC\, Clear Air Council\, the US Navy\, Johnson Controls\, and Penn State at the Navy Yard with our annual Navy Yard Sustainability Day. \nDuring Lunch Truck Lineup\, visit the sustainability fair filled with 15+ regional organizations who will provide information\, giveaways\, and products to be more environmentally friendly. The day also includes free electronics and battery recycling\, free paper shredding\, and free Earth Yoga at 11:30 AM! \nFor more information and to register for Earth Yoga click here. \n  \nA member of the PEA staff will be tabling at the event about Solarize Philly. Come to get answers to any questions you may have about going solar in Philadelphia! \n
URL:https://philaenergy.org/event/solarize-philly-at-the-navy-yard-sustainability-day-2019/
LOCATION:Marine Parade Grounds\, Broad Street & Intrepid Avenue\, Philadelphia\, PA\, 19112\, United States
ATTACH;FMTTYPE=image/jpeg:https://philaenergy.org/wp-content/uploads/2019/10/Navy-Yard-Logo.jpg
END:VEVENT
END:VCALENDAR