BEGIN:VCALENDAR
VERSION:2.0
PRODID:-//Philadelphia Energy Authority - ECPv5.1.5//NONSGML v1.0//EN
CALSCALE:GREGORIAN
METHOD:PUBLISH
X-WR-CALNAME:Philadelphia Energy Authority
X-ORIGINAL-URL:https://philaenergy.org
X-WR-CALDESC:Events for Philadelphia Energy Authority
BEGIN:VTIMEZONE

END:VTIMEZONE
BEGIN:VEVENT
DTSTART;TZID=America/New_York:19700101T000000
DTEND;TZID=America/New_York:20221027T000000
DTSTAMP:20260423T213806
CREATED:20221110T163038Z
LAST-MODIFIED:20221110T163038Z
UID:8680-0-1666828800@philaenergy.org
SUMMARY:Philly Streetlight Improvement Project Presentation
DESCRIPTION:The Philly Streetlight Improvement Project team will provide details on the initiative\, answer questions\, and share information on trial installations. For more information on the project visit: https://www.phillystreetlightimprovement.com/ \n
URL:https://philaenergy.org/event/philly-streetlight-improvement-project-presentation-5/
LOCATION:12th & Cambria Recreation Center 2901 N 12th St
ATTACH;FMTTYPE=image/png:https://philaenergy.org/wp-content/uploads/2022/11/Screen-Shot-2022-11-09-at-3.32.30-PM-1-2.png
END:VEVENT
BEGIN:VEVENT
DTSTART;VALUE=DATE:20200817
DTEND;VALUE=DATE:20200824
DTSTAMP:20260423T213806
CREATED:20200805T131217Z
LAST-MODIFIED:20200813T191226Z
UID:5829-1597622400-1598227199@philaenergy.org
SUMMARY:Philadelphia Solar Week ☀️
DESCRIPTION:The second annual Philadelphia Solar Week is August 17 – 23rd! Join us in a series of virtual events about how to go solar. Full list of programs and events are below more details for each event can be found on the Philadelphia Energy Agency’s event calendar. \n\nSolar Webinar Series (Aug 17-21)\n\nMonday\, August 17 (10-11:30am): Solar 101: Everything you need to know to go solar during COVID-19\nTuesday\, August 18 (10-11:30am): Putting Philadelphia Back to Work: Solar as a Tool for Economic Recovery\nWednesday\, August 19 (10-11:30am): Scaling Up to Combat Climate Change: PA’s Growing Utility-Scale Solar Market\nThursday\, August 20 (10-11:30am): Good for Business: Trailblazing Commercial Solar Projects\nFriday\, August 21 (9-11:30am): Doing Solar Business in Philadelphia: Interconnection and Permitting Best Practices\n\nTo register for one or all of the webinars\, click here. \n  \nSolarize Philly Office Hours (Aug 17-19)\nPEA staff and Solarize Philly’s pre-approved installer Solar States will be available for office hours Aug 17-19\, 4-6pm for 15-minute consultation sessions. Click here to book your consultation session. \nTo book your consultation session\, click here. \n  \nVirtual Home Tour (Aug 20)\nJoin PEA\, Solar States and homeowners who have already gone solar for a Virtual Solar Home Tour on August 20\, 5-6:45pm. This is an opportunity to get your burning questions answered ahead of the Solarize Philly fast approaching September 30th deadline to sign a contract. To register\, click here. \n  \nBright Solar Futures Graduation & Career Panel (Aug 21)\nPEA will be joined by Laura Beane Chief Renewables Officer for ENGIE Renewables – North America for a keynote to close out Philadelphia Solar Week. We will be honoring the 2020 Bright Solar Futures graduates as they commence careers in clean energy. \nStay after the graduation to hear from graduates of Philadelphia solar training programs will share their stories transitioning into solar and other positions in the energy sector. Guidance will be provided on how to apply for a spot in one of the upcoming solar classes. This session is designed for those who are interested in pursuing a career in clean energy. \nTo register for the graduation and career panel\, click here. \nSolarize Philly Art Competition (Deadline: Aug 24)\nCelebrate Philadelphia Solar Week by creating solar artwork and inspiring families across Philadelphia to go solar! The competition consists of three different categories separated by age groups. For competition guidelines\, click here. \n  \nSolarize Philly Story Competition (Deadline: Aug 24)\nCelebrate Philadelphia Solar Week 2020 with us by sharing your solar story and inspiring others to follow your lead! Prizes will be awarded for the top entries. The winning video story may be featured on PEA and Solarize Philly websites and social media. For competition guidelines\, click here. \n
URL:https://philaenergy.org/event/philadelphia-solar-week-2020/
ATTACH;FMTTYPE=image/png:https://philaenergy.org/wp-content/uploads/2020/08/SolarWeek_2020-_Calendar.png
ORGANIZER;CN="Philadelphia%20Energy%20Authority":MAILTO:info@philaenergy.org
END:VEVENT
BEGIN:VEVENT
DTSTART;TZID=America/New_York:20200817T080000
DTEND;TZID=America/New_York:20200817T170000
DTSTAMP:20260423T213806
CREATED:20200817T172226Z
LAST-MODIFIED:20200817T183152Z
UID:6039-1597651200-1597683600@philaenergy.org
SUMMARY:GPEAT August Briefing
DESCRIPTION:Join GPEAT members for a discussion around the future of district energy systems\, and a new financing approach for energy improvements in commercial buildings called Metered Energy Efficiency Transaction Structure (MEETS). \nSpeakers: \n\nBill DiCroce\, President & CEO\, Vicinity Energy\nEllis Guiles\, Owner & President\, Graboyes Efficiency Tenant\nModerator: Christopher Lewis\, Partner\, Blank Rome\n\n
URL:https://philaenergy.org/event/gpeat-august-briefing/
END:VEVENT
BEGIN:VEVENT
DTSTART;TZID=America/New_York:20200817T100000
DTEND;TZID=America/New_York:20200817T233000
DTSTAMP:20260423T213806
CREATED:20200805T130856Z
LAST-MODIFIED:20200814T205147Z
UID:5827-1597658400-1597707000@philaenergy.org
SUMMARY:Solar 101: Everything You Need to Know to Go Solar During COVID-19 Webinar
DESCRIPTION:Join the Solarize Philly Team\, PEA’s pre-approved installer Solar States\, and homeowners who have already gone solar to learn about the process of solarizing your home. Solar States will describe how they have been able to continue operations while following COVID safety guidelines. Panelist include: \n\nLaura Rigell\, Solar Manager\, Philadelphia Energy Authority\nCouncilmember Katherine Gilmore Richardson\, Councilmember At-Large\, City of Philadelphia\n\nChristine Knapp\, Director\, Office of Sustainability\n\nMahvish Ilyas\, Solar Projects Coordinator\, Philadelphia Energy Authority\nMicah Gold-Markel\, Founder\, Solar States\nLeslie Gaines\, Solarize Philly Participant\nVu Le\, Solarize Philly Participant\n\nTo register for this webinar or others in the Solar Week Series click here. \n\n		\n			#gallery-1 {\n				margin: auto;\n			}\n			#gallery-1 .gallery-item {\n				float: left;\n				margin-top: 10px;\n				text-align: center;\n				width: 33%;\n			}\n			#gallery-1 img {\n				border: 2px solid #cfcfcf;\n			}\n			#gallery-1 .gallery-caption {\n				margin-left: 0;\n			}\n			/* see gallery_shortcode() in wp-includes/media.php */\n		\n		\n			\n				\n			\n			\n				\n			\n			\n				\n			\n		\n\nPhoto credit: Solar States\n
URL:https://philaenergy.org/event/solar-101/
ATTACH;FMTTYPE=image/png:https://philaenergy.org/wp-content/uploads/2020/08/Solar-Week-Banner.png
END:VEVENT
BEGIN:VEVENT
DTSTART;TZID=America/New_York:20200817T160000
DTEND;TZID=America/New_York:20200817T180000
DTSTAMP:20260423T213806
CREATED:20200805T144655Z
LAST-MODIFIED:20200806T222554Z
UID:5870-1597680000-1597687200@philaenergy.org
SUMMARY:Solarize Philly Office Hours
DESCRIPTION:PEA staff and Solarize Philly’s pre-approved installer Solar States will be available for office hours Aug 17-19\, 4-6pm for 15-minute consultation sessions.   \nClick here to book your consultation session. \n  \n
URL:https://philaenergy.org/event/solarize-philly-office-hours/
ATTACH;FMTTYPE=image/png:https://philaenergy.org/wp-content/uploads/2020/08/Solar-Week-Banner.png
END:VEVENT
END:VCALENDAR