BEGIN:VCALENDAR
VERSION:2.0
PRODID:-//Philadelphia Energy Authority - ECPv5.1.5//NONSGML v1.0//EN
CALSCALE:GREGORIAN
METHOD:PUBLISH
X-WR-CALNAME:Philadelphia Energy Authority
X-ORIGINAL-URL:https://philaenergy.org
X-WR-CALDESC:Events for Philadelphia Energy Authority
BEGIN:VTIMEZONE

END:VTIMEZONE
BEGIN:VEVENT
DTSTART;TZID=America/New_York:19700101T000000
DTEND;TZID=America/New_York:20221027T000000
DTSTAMP:20260421T123400
CREATED:20221110T163038Z
LAST-MODIFIED:20221110T163038Z
UID:8680-0-1666828800@philaenergy.org
SUMMARY:Philly Streetlight Improvement Project Presentation
DESCRIPTION:The Philly Streetlight Improvement Project team will provide details on the initiative\, answer questions\, and share information on trial installations. For more information on the project visit: https://www.phillystreetlightimprovement.com/ \n
URL:https://philaenergy.org/event/philly-streetlight-improvement-project-presentation-5/
LOCATION:12th & Cambria Recreation Center 2901 N 12th St
ATTACH;FMTTYPE=image/png:https://philaenergy.org/wp-content/uploads/2022/11/Screen-Shot-2022-11-09-at-3.32.30-PM-1-2.png
END:VEVENT
BEGIN:VEVENT
DTSTART;TZID=America/New_York:20210525T130000
DTEND;TZID=America/New_York:20210526T160000
DTSTAMP:20260421T123400
CREATED:20210525T152045Z
LAST-MODIFIED:20210525T152128Z
UID:7171-1621947600-1622044800@philaenergy.org
SUMMARY:Penn State University's Virtual Workshop: The Local Social and Economical Context of Energy Transitions
DESCRIPTION:As the United States pivots away from fossil fuels\, resource-dependent communities and host communities for renewable energy are undergoing major transitions. These transitions play out quite differently in different contexts as local and state officials\, nonprofit groups\, and community leaders work to harness and re-apply the skills of the local workforce and address social and land use-based changes. But there is no single formula for success. This workshop aims to explore different communities’ and states’ experiences with losses and gains in their energy economies\, focusing specifically on state and local experiences with economic redevelopment and skills transfer; local impacts\, such as land use changes; and residents’ perceptions of transitions. Speakers will provide perspectives from urban and rural settings; areas that are just starting the transition or are in the midst of it; and areas that are experiencing both economic gains and losses. The workshop has two objectives. The first is to identify potential best practice strategies the energy transition\, focusing on engagement with residents\, economic development\, and regulatory and “soft” (e.g.\, negotiation-based) land use approaches. What strategies have been implemented\, and what do we know about success and failure? The second is to provide opportunities for cross-jurisdictional learning among decision-makers in different locations and to identify opportunities to harmonize strategies. \nPEA’s President & CEO\, Emily Schapira will be presenting  about carbon reductions\, economic development\, and job creation in Philadelphia. \nFor full schedule and list of presenters\, click here. \nZOOM INFORMATION\nhttps://psu.zoom.us/s/96711191416\nOr join webinar with the following methods \nPhone one-tap:\nUS: +16468769923\,\,96711191416# or +13017158592\,\,96711191416# \nJoin by Telephone\nFor higher quality\, dial a number based on your current location.\nDial:\nUS : +1 646 876 9923 or +1 301 715 8592 or +1 312 626 6799 or +1 669 900 6833 or +1 253 215 8782 or +1 346 248 7799 \nWebinar ID: 967 1119 1416\nPasscode: 680108 \n  \n
URL:https://philaenergy.org/event/penn-state-universitys-virtual-workshop-the-local-social-and-economical-context-of-energy-transitions/
END:VEVENT
BEGIN:VEVENT
DTSTART;TZID=America/New_York:20210525T140000
DTEND;TZID=America/New_York:20210525T144500
DTSTAMP:20260421T123400
CREATED:20210525T180024Z
LAST-MODIFIED:20210525T180107Z
UID:7181-1621951200-1621953900@philaenergy.org
SUMMARY:AABE's Annual Conference: Connecting the Dots - Consumer Track: Climate Change and Zero Emissions Strategies— Consumer Response and Customer Perspectives
DESCRIPTION:The Climate Change and Zero Emissions Strategies— Consumer Response and Customer Perspectives Panel is one of many sessions during the 44th Annual National Conference of the American Association of Blacks in Energy® (AABE) streaming live May 25 – 27\, 2021. The conference offers powerful connections\, energetic exchanges\, and top-notch sessions geared toward energy professionals\, policy-makers\, entrepreneurs\, students\, and federal officials. \nPEA’s President & CEO\, Emily Schapira will be on the panel discussing climate change mitigation and energy affordability\, equitable access to clean energy technologies\, and development concerns/limitations\, including siting\, transmission\, and storage. \nModerator: David Springe\, Executive Director\, National Association of State Utility Consumer Advocates \nPanelists: \n\nNancy Hirsh\, Executive Director\, NW Energy Coalition\nDan Lapato\, Senior Director\, State Affairs\, American Gas Association\nJacqueline Patterson\, Director\, Environmental and Climate Justice Program\, NAACP\nEmily Schapira\, President and CEO\, Philadelphia Energy Authority\n\n
URL:https://philaenergy.org/event/aabes-annual-conference-connecting-the-dots-consumer-track-climate-change-and-zero-emissions-strategies-consumer-response-and-customer-perspectives/
ATTACH;FMTTYPE=image/jpeg:https://philaenergy.org/wp-content/uploads/2021/05/133-2021-Registration-Now-Open.jpg
END:VEVENT
BEGIN:VEVENT
DTSTART;TZID=America/New_York:20210525T163000
DTEND;TZID=America/New_York:20210525T170000
DTSTAMP:20260421T123400
CREATED:20210525T151619Z
LAST-MODIFIED:20210525T151619Z
UID:7173-1621960200-1621962000@philaenergy.org
SUMMARY:Financing Philadelphia’s Future
DESCRIPTION:On Tuesday\, May 25\, 2021\, from 4:30 to 5:00\, the fourth program in the “Financing Philadelphia’s Future with Councilmember Derek Green” series will be presented by the Philadelphia Public Banking Coalition.  The general public is invited to participate in this program\, moderated by Vanessa Lowe\, on Zoom https://us02web.zoom.us/j/85835928783 and livestreamed on the Facebook and Instagram accounts of Councilmember Green and Philadelphia Neighborhood Networks. Participants are asked to register here: https://actionnetwork.org/forms/philadelphia-public-bank-coalition-presents-financing-philadelphias-future-with-derek-green?source=direct_link&. \n\nMaryrose Myrtetus\, Executive Director of the recently established Philadelphia Green Capital Corp. (PGCC)\, will join Councilmember Green to discuss the ways the PGCC and the prospective Philadelphia Public Banking Authority (PPBA) can work together.  \n \n
URL:https://philaenergy.org/event/financing-philadelphias-future/
END:VEVENT
END:VCALENDAR