BEGIN:VCALENDAR
VERSION:2.0
PRODID:-//Philadelphia Energy Authority - ECPv5.1.5//NONSGML v1.0//EN
CALSCALE:GREGORIAN
METHOD:PUBLISH
X-WR-CALNAME:Philadelphia Energy Authority
X-ORIGINAL-URL:https://philaenergy.org
X-WR-CALDESC:Events for Philadelphia Energy Authority
BEGIN:VTIMEZONE
TZID:America/New_York
BEGIN:DAYLIGHT
TZOFFSETFROM:-0500
TZOFFSETTO:-0400
TZNAME:EDT
DTSTART:20250309T070000
END:DAYLIGHT
BEGIN:STANDARD
TZOFFSETFROM:-0400
TZOFFSETTO:-0500
TZNAME:EST
DTSTART:20251102T060000
END:STANDARD
END:VTIMEZONE
BEGIN:VEVENT
DTSTART;TZID=America/New_York:20251021T080000
DTEND;TZID=America/New_York:20251021T100000
DTSTAMP:20260421T094549
CREATED:20250922T133032Z
LAST-MODIFIED:20250922T133032Z
UID:11310-1761033600-1761040800@philaenergy.org
SUMMARY:3rd Annual Financing Energy and Sustainability Investments - The Role of C-PACE Financing
DESCRIPTION:\n\n\n Registration is now open for our annual review of the C-PACE market. Join us October 21 for a discussion on the latest trends in clean energy financing. Speakers will provide an update on the ever-changing landscape of financing products and incentives for energy efficiency and renewable energy projects.\n\n\n\n  \n  \n \n\n\n\n\n\n\n\n\n\n\n\n\n\n\n\n\n\n\n\n\n\n\n\n\n\n\n\n\n\n  \nREGISTER\n
URL:https://philaenergy.org/event/3rd-annual-financing-energy-and-sustainability-investments-the-role-of-c-pace-financing/
LOCATION:Gerri C. Lebow Hall\, DiPiero Grand Meeting Room and Rose Terrace 220/221\, 3220 Market St\, Philadelphia\, PA\, 19104
CATEGORIES:Philadelphia C-PACE
END:VEVENT
END:VCALENDAR