BEGIN:VCALENDAR
VERSION:2.0
PRODID:-//Philadelphia Energy Authority - ECPv5.1.5//NONSGML v1.0//EN
CALSCALE:GREGORIAN
METHOD:PUBLISH
X-WR-CALNAME:Philadelphia Energy Authority
X-ORIGINAL-URL:https://philaenergy.org
X-WR-CALDESC:Events for Philadelphia Energy Authority
BEGIN:VTIMEZONE
TZID:America/New_York
BEGIN:DAYLIGHT
TZOFFSETFROM:-0500
TZOFFSETTO:-0400
TZNAME:EDT
DTSTART:20260308T070000
END:DAYLIGHT
BEGIN:STANDARD
TZOFFSETFROM:-0400
TZOFFSETTO:-0500
TZNAME:EST
DTSTART:20261101T060000
END:STANDARD
END:VTIMEZONE
BEGIN:VEVENT
DTSTART;TZID=America/New_York:20260313T120000
DTEND;TZID=America/New_York:20260313T133000
DTSTAMP:20260422T111254
CREATED:20260311T185740Z
LAST-MODIFIED:20260311T185740Z
UID:11624-1773403200-1773408600@philaenergy.org
SUMMARY:Build Philly Now - Policy Lunch with Emily Schapira.
DESCRIPTION:Join us for a policy lunch discussion that will explore how PEA has become the engine of energy policy innovation in Philadelphia. PEA has helped influence practical solutions for cleaner and more affordable energy. This discussion will also share how its Built to Last initiative helped inspire Pennsylvania’s Whole-Home Repairs Program. Attendees are able to ask questions and hear Emily’s perspective on the future of energy innovation in Philadelphia. \n
URL:https://philaenergy.org/event/build-philly-now-policy-lunch-with-emily-schapira/
LOCATION:Econsult Solutions\, 1435 Walnut Street - 4th Floor\, Philadephia\, PA\, 19102\, United States
END:VEVENT
END:VCALENDAR