BEGIN:VCALENDAR
VERSION:2.0
PRODID:-//Philadelphia Energy Authority - ECPv5.1.5//NONSGML v1.0//EN
CALSCALE:GREGORIAN
METHOD:PUBLISH
X-WR-CALNAME:Philadelphia Energy Authority
X-ORIGINAL-URL:https://philaenergy.org
X-WR-CALDESC:Events for Philadelphia Energy Authority
BEGIN:VTIMEZONE
TZID:America/New_York
BEGIN:DAYLIGHT
TZOFFSETFROM:-0500
TZOFFSETTO:-0400
TZNAME:EDT
DTSTART:20260308T070000
END:DAYLIGHT
BEGIN:STANDARD
TZOFFSETFROM:-0400
TZOFFSETTO:-0500
TZNAME:EST
DTSTART:20261101T060000
END:STANDARD
END:VTIMEZONE
BEGIN:VEVENT
DTSTART;TZID=America/New_York:20260322T140000
DTEND;TZID=America/New_York:20260322T160000
DTSTAMP:20260421T001553
CREATED:20260316T115438Z
LAST-MODIFIED:20260316T115538Z
UID:11639-1774188000-1774195200@philaenergy.org
SUMMARY:Women for Greater Philadelphia 2026 Celebrating Women’s History Month
DESCRIPTION:PEA’s President and CEO\, Emily Schapira will be a recognized honoree at the Women for Greater Philadelphia 2026 Women’s History Month annual event. Emily S. was nominated and chosen for her outstanding efforts in leading sustainability across economic\, social justice\, environmental and educational movements. She will be presented with a Women for Greater Philadelphia Award. \nThere will be a panel with three honorees answering questions from this years moderator\, Dr. Jill Zinckgraf\, who was the 2024 & 2025 Interim Executive Director of the National Women’s History Alliance. This time will also go to the audience who have any questions. \n
URL:https://philaenergy.org/event/women-for-greater-philadelphia-2026-celebrating-womens-history-month/
LOCATION:Laurel Hill Mansion in Philadelphia’s East Fairmount Park\, 3487 Edgley Dr\, Philadelphia\, Pennsylvania\, 19121
END:VEVENT
END:VCALENDAR